BEGIN:VCALENDAR
VERSION:2.0
PRODID:DPCALENDAR
CALSCALE:GREGORIAN
BEGIN:VTIMEZONE
TZID:Europe/Warsaw
BEGIN:STANDARD
DTSTART:20251026T010000
TZOFFSETFROM:+0200
TZOFFSETTO:+0100
TZNAME:CET
END:STANDARD
BEGIN:STANDARD
DTSTART:20261025T010000
TZOFFSETFROM:+0200
TZOFFSETTO:+0100
TZNAME:CET
END:STANDARD
BEGIN:DAYLIGHT
DTSTART:20260329T010000
TZOFFSETFROM:+0100
TZOFFSETTO:+0200
TZNAME:CEST
END:DAYLIGHT
END:VTIMEZONE
X-WR-TIMEZONE:Europe/Warsaw
BEGIN:VEVENT
DTSTART;TZID=Europe/Warsaw:20260602T100000
DTEND;TZID=Europe/Warsaw:20260602T160000
UID:82FAE6D6-DDA3-4326-9035-1AB7C1C4B61A
SUMMARY:Szkolenie dla nowych działkowców
DTSTAMP:20260413T113437Z
DESCRIPTION:
X-ALT-DESC;FMTTYPE=text/html:
LOCATION:
GEO:51.19085553;16.15709052
LAST-MODIFIED:20260413T113542Z
X-ACCESS:1
X-HITS:13
X-URL:
X-COLOR:32FF2B
END:VEVENT
BEGIN:VEVENT
DTSTART;TZID=Europe/Warsaw:20260625T150000
DTEND;TZID=Europe/Warsaw:20260625T210000
UID:35F4E28B-7C26-4A9F-88E6-EA5DF09C4D1D
SUMMARY:Szkolenie dla nowych działkowców
DTSTAMP:20260413T113638Z
DESCRIPTION:
X-ALT-DESC;FMTTYPE=text/html:
LOCATION:
GEO:51.19085553;16.15709052
LAST-MODIFIED:20260413T113746Z
X-ACCESS:1
X-HITS:12
X-URL:
X-COLOR:32FF2B
END:VEVENT
BEGIN:VEVENT
DTSTART;TZID=Europe/Warsaw:20260901T150000
DTEND;TZID=Europe/Warsaw:20260901T210000
UID:C8B4591B-561A-41B7-824B-14F151ADB2AB
SUMMARY:Szkolenie dla nowych działkowców
DTSTAMP:20260413T113738Z
DESCRIPTION:
X-ALT-DESC;FMTTYPE=text/html:
LOCATION:
GEO:51.19085553;16.15709052
X-ACCESS:1
X-HITS:10
X-URL:
X-COLOR:32FF2B
END:VEVENT
BEGIN:VEVENT
DTSTART;TZID=Europe/Warsaw:20261008T100000
DTEND;TZID=Europe/Warsaw:20261008T160000
UID:FCFB76EE-DF24-4126-A515-44FC71428CA3
SUMMARY:Szkolenie dla nowych działkowców
DTSTAMP:20260413T113825Z
DESCRIPTION:
X-ALT-DESC;FMTTYPE=text/html:
LOCATION:
GEO:51.19085553;16.15709052
X-ACCESS:1
X-HITS:10
X-URL:
X-COLOR:32FF2B
END:VEVENT
END:VCALENDAR