BEGIN:VCALENDAR
VERSION:2.0
PRODID:DPCALENDAR
CALSCALE:GREGORIAN
BEGIN:VTIMEZONE
TZID:Europe/Warsaw
BEGIN:STANDARD
DTSTART:20251026T010000
TZOFFSETFROM:+0200
TZOFFSETTO:+0100
TZNAME:CET
END:STANDARD
BEGIN:STANDARD
DTSTART:20261025T010000
TZOFFSETFROM:+0200
TZOFFSETTO:+0100
TZNAME:CET
END:STANDARD
BEGIN:DAYLIGHT
DTSTART:20260329T010000
TZOFFSETFROM:+0100
TZOFFSETTO:+0200
TZNAME:CEST
END:DAYLIGHT
END:VTIMEZONE
X-WR-TIMEZONE:Europe/Warsaw
BEGIN:VEVENT
DTSTART;TZID=Europe/Warsaw:20171128T140000
DTEND;TZID=Europe/Warsaw:20171128T150000
UID:F394A4F6-AEB6-45D1-AFA1-0B7FB1DC9426
SUMMARY:Spotkanie Prezesów ROD z Wójtem Gminy Miłkowice i Dyrektor OZ PZD
DTSTAMP:20171120T122457Z
DESCRIPTION:
X-ALT-DESC;FMTTYPE=text/html:
LOCATION:Mickiewicza 12\, 59-220 Legnica\, dolnośląskie\, Polska
GEO:51.20470020;16.16308160
LAST-MODIFIED:20171120T122801Z
X-ACCESS:1
X-HITS:32
X-URL:
X-COLOR:0011FF
END:VEVENT
END:VCALENDAR