BEGIN:VCALENDAR
VERSION:2.0
PRODID:DPCALENDAR
CALSCALE:GREGORIAN
BEGIN:VTIMEZONE
TZID:Europe/Warsaw
BEGIN:STANDARD
DTSTART:20251026T010000
TZOFFSETFROM:+0200
TZOFFSETTO:+0100
TZNAME:CET
END:STANDARD
BEGIN:STANDARD
DTSTART:20261025T010000
TZOFFSETFROM:+0200
TZOFFSETTO:+0100
TZNAME:CET
END:STANDARD
BEGIN:DAYLIGHT
DTSTART:20260329T010000
TZOFFSETFROM:+0100
TZOFFSETTO:+0200
TZNAME:CEST
END:DAYLIGHT
END:VTIMEZONE
X-WR-TIMEZONE:Europe/Warsaw
BEGIN:VEVENT
DTSTART;TZID=Europe/Warsaw:20170923T120000
DTEND;TZID=Europe/Warsaw:20170923T150000
UID:B63ACF00-710D-41BA-AE79-C46A6CF248DB
SUMMARY:Dzień działkowca (dożynki)
DTSTAMP:20170706T093513Z
DESCRIPTION:
X-ALT-DESC;FMTTYPE=text/html:
LOCATION:
GEO:51.25948563;16.15596131
LAST-MODIFIED:20170910T120450Z
X-ACCESS:1
X-HITS:21
X-URL:
X-COLOR:0B9E00
END:VEVENT
BEGIN:VEVENT
DTSTART;TZID=Europe/Warsaw:20180902T100000
DTEND;TZID=Europe/Warsaw:20180902T180000
UID:1A1968AF-EFEC-4B7A-AEA7-376A96F4490F
SUMMARY:1. Dożynki Miasta Legnica
DTSTAMP:20180802T053344Z
DESCRIPTION:
X-ALT-DESC;FMTTYPE=text/html:
LOCATION:Rynek\, 59-220 Legnica
GEO:51.20818240;16.16050780
LAST-MODIFIED:20180802T053755Z
X-ACCESS:1
X-HITS:38
X-URL:
X-COLOR:51C437
END:VEVENT
END:VCALENDAR