BEGIN:VCALENDAR
VERSION:2.0
PRODID:DPCALENDAR
CALSCALE:GREGORIAN
BEGIN:VTIMEZONE
TZID:Europe/Warsaw
BEGIN:STANDARD
DTSTART:20251026T010000
TZOFFSETFROM:+0200
TZOFFSETTO:+0100
TZNAME:CET
END:STANDARD
BEGIN:STANDARD
DTSTART:20261025T010000
TZOFFSETFROM:+0200
TZOFFSETTO:+0100
TZNAME:CET
END:STANDARD
BEGIN:DAYLIGHT
DTSTART:20260329T010000
TZOFFSETFROM:+0100
TZOFFSETTO:+0200
TZNAME:CEST
END:DAYLIGHT
END:VTIMEZONE
X-WR-TIMEZONE:Europe/Warsaw
BEGIN:VEVENT
DTSTART;TZID=Europe/Warsaw:20180310T110000
DTEND;TZID=Europe/Warsaw:20180310T140000
UID:D97E0C7A-7D05-45D1-901B-AF9875DFA343
SUMMARY:Walne Zebranie Sprawozdawcze
DTSTAMP:20180116T113926Z
DESCRIPTION:
X-ALT-DESC;FMTTYPE=text/html:
LOCATION:
GEO:51.19085553;16.15709052
LAST-MODIFIED:20180116T114140Z
X-ACCESS:1
X-HITS:66
X-URL:
X-COLOR:FF5500
END:VEVENT
BEGIN:VEVENT
DTSTART;TZID=Europe/Warsaw:20190302T100000
DTEND;TZID=Europe/Warsaw:20190302T130000
UID:187DC83F-560A-4C2E-83F1-293686162C8E
SUMMARY:Walne Zebranie Sprawozdawczo- Wyborcze
DTSTAMP:20180116T113926Z
DESCRIPTION:
X-ALT-DESC;FMTTYPE=text/html:
LOCATION:
GEO:51.19085553;16.15709052
LAST-MODIFIED:20190220T140906Z
X-ACCESS:1
X-HITS:39
X-URL:
X-COLOR:FF5500
END:VEVENT
BEGIN:VEVENT
DTSTART;TZID=Europe/Warsaw:20210821T100000
DTEND;TZID=Europe/Warsaw:20210821T130000
UID:116B4AE1-DF24-4635-962B-A6E8657B1E4F
SUMMARY:Walne zebranie 2021
DTSTAMP:20210810T100248Z
DESCRIPTION:
X-ALT-DESC;FMTTYPE=text/html:
X-ACCESS:1
X-HITS:10
X-URL:/ogloszenia/dla-dzialkowcow/72-walne-zebranie-2021
X-COLOR:FFB70F
END:VEVENT
BEGIN:VEVENT
DTSTART;TZID=Europe/Warsaw:20220507T100000
DTEND;TZID=Europe/Warsaw:20220507T130000
UID:4CE8C889-C113-4C19-9ECA-91C7FE2B4A21
SUMMARY:Walne zebranie
DTSTAMP:20220428T064442Z
DESCRIPTION:
X-ALT-DESC;FMTTYPE=text/html:
LOCATION:
GEO:51.25948563;16.15596131
X-ACCESS:1
X-HITS:8
X-URL:
X-COLOR:FF0000
END:VEVENT
BEGIN:VEVENT
DTSTART;TZID=Europe/Warsaw:20230401T100000
DTEND;TZID=Europe/Warsaw:20230401T120000
UID:6DD212EA-32C7-4DF3-BBB3-C4DD44F1C5DA
SUMMARY:Przeglądanie materiałów sprawozdawczych za rok 2022
DTSTAMP:20230328T053609Z
DESCRIPTION:
X-ALT-DESC;FMTTYPE=text/html:
LOCATION:
GEO:51.25948563;16.15596131
LAST-MODIFIED:20230328T053638Z
X-ACCESS:1
X-HITS:9
X-URL:
X-COLOR:0011FF
END:VEVENT
BEGIN:VEVENT
DTSTART;TZID=Europe/Warsaw:20230408T100000
DTEND;TZID=Europe/Warsaw:20230408T120000
UID:B0CC11E0-23BD-4D76-B848-F27BF31642D5
SUMMARY:Przeglądanie materiałów sprawozdawczych za rok 2022
DTSTAMP:20230328T053609Z
DESCRIPTION:
X-ALT-DESC;FMTTYPE=text/html:
LOCATION:
GEO:51.25948563;16.15596131
LAST-MODIFIED:20230328T053711Z
X-ACCESS:1
X-HITS:1
X-URL:
X-COLOR:0011FF
END:VEVENT
BEGIN:VEVENT
DTSTART;TZID=Europe/Warsaw:20230422T100000
DTEND;TZID=Europe/Warsaw:20230422T130000
UID:78AC460E-5F11-4E58-8C18-039EFE2DE4C7
SUMMARY:Walne zebranie 2023
DTSTAMP:20220428T064442Z
DESCRIPTION:
X-ALT-DESC;FMTTYPE=text/html:
LOCATION:
GEO:51.25948563;16.15596131
LAST-MODIFIED:20230328T053448Z
X-ACCESS:1
X-HITS:14
X-URL:
X-COLOR:FF0000
END:VEVENT
BEGIN:VEVENT
DTSTART;TZID=Europe/Warsaw:20250412T100000
DTEND;TZID=Europe/Warsaw:20250412T130000
UID:78F8277D-CCFB-45CC-994E-56A2C06E5FD6
SUMMARY:Walne zebranie 2025
DTSTAMP:20240426T064442Z
DESCRIPTION:
X-ALT-DESC;FMTTYPE=text/html:
LAST-MODIFIED:20250408T051817Z
X-ACCESS:1
X-HITS:9
X-URL:
X-COLOR:FF0000
END:VEVENT
END:VCALENDAR