BEGIN:VCALENDAR
VERSION:2.0
PRODID:DPCALENDAR
CALSCALE:GREGORIAN
BEGIN:VTIMEZONE
TZID:Europe/Warsaw
BEGIN:STANDARD
DTSTART:20251026T010000
TZOFFSETFROM:+0200
TZOFFSETTO:+0100
TZNAME:CET
END:STANDARD
BEGIN:STANDARD
DTSTART:20261025T010000
TZOFFSETFROM:+0200
TZOFFSETTO:+0100
TZNAME:CET
END:STANDARD
BEGIN:DAYLIGHT
DTSTART:20260329T010000
TZOFFSETFROM:+0100
TZOFFSETTO:+0200
TZNAME:CEST
END:DAYLIGHT
END:VTIMEZONE
X-WR-TIMEZONE:Europe/Warsaw
BEGIN:VEVENT
DTSTART;TZID=Europe/Warsaw:20170701T100000
DTEND;TZID=Europe/Warsaw:20170701T130000
UID:9DC15057-47EC-49E6-A0E5-D8A7A01F42C9
SUMMARY:Zebranie Zarządu
DTSTAMP:20170704T070438Z
DESCRIPTION:
X-ALT-DESC;FMTTYPE=text/html:
LOCATION:
GEO:51.25948563;16.15596131
X-ACCESS:1
X-HITS:2
X-URL:
X-COLOR:3366CC
END:VEVENT
BEGIN:VEVENT
DTSTART;TZID=Europe/Warsaw:20170805T100000
DTEND;TZID=Europe/Warsaw:20170805T130000
UID:ECED81EE-F138-48AE-BA26-0482CF60CF71
SUMMARY:Odwołane- Zebranie Zarządu
DTSTAMP:20170706T093227Z
DESCRIPTION:
X-ALT-DESC;FMTTYPE=text/html:
LOCATION:
GEO:51.25948563;16.15596131
LAST-MODIFIED:20170706T093353Z
X-ACCESS:1
X-HITS:14
X-URL:
X-COLOR:FF0505
END:VEVENT
BEGIN:VEVENT
DTSTART;TZID=Europe/Warsaw:20170902T100000
DTEND;TZID=Europe/Warsaw:20170902T130000
UID:3FC48026-FB57-4148-BBB1-733B591D72BC
SUMMARY:Zebranie Zarządu
DTSTAMP:20170702T101224Z
DESCRIPTION:
X-ALT-DESC;FMTTYPE=text/html:
LOCATION:
GEO:51.25948563;16.15596131
LAST-MODIFIED:20170703T070151Z
X-ACCESS:1
X-HITS:78
X-URL:
X-COLOR:3366CC
END:VEVENT
BEGIN:VEVENT
DTSTART;TZID=Europe/Warsaw:20171007T100000
DTEND;TZID=Europe/Warsaw:20171007T130000
UID:53E3CBA2-431B-4632-A076-D76EB7DFA78D
SUMMARY:Zebranie Zarządu
DTSTAMP:20170704T064403Z
DESCRIPTION:
X-ALT-DESC;FMTTYPE=text/html:
LOCATION:
GEO:51.25948563;16.15596131
X-ACCESS:1
X-HITS:24
X-URL:
X-COLOR:3366CC
END:VEVENT
BEGIN:VEVENT
DTSTART;TZID=Europe/Warsaw:20171104T100000
DTEND;TZID=Europe/Warsaw:20171104T130000
UID:2D70FA10-AC2A-4961-9601-A03AE7588E78
SUMMARY:Odwołane- Zebranie Zarządu
DTSTAMP:20170706T095323Z
DESCRIPTION:
X-ALT-DESC;FMTTYPE=text/html:
LOCATION:
GEO:51.25948563;16.15596131
LAST-MODIFIED:20171031T070943Z
X-ACCESS:1
X-HITS:30
X-URL:
X-COLOR:FF0505
END:VEVENT
BEGIN:VEVENT
DTSTART;TZID=Europe/Warsaw:20171118T100000
DTEND;TZID=Europe/Warsaw:20171118T130000
UID:7328DFEC-CD14-43D1-BDCB-CBE07423FF7F
SUMMARY:Zebranie Zarządu
DTSTAMP:20170706T095352Z
DESCRIPTION:
X-ALT-DESC;FMTTYPE=text/html:
LOCATION:
GEO:51.25948563;16.15596131
LAST-MODIFIED:20171107T070658Z
X-ACCESS:1
X-HITS:12
X-URL:
X-COLOR:3366CC
END:VEVENT
BEGIN:VEVENT
DTSTART;TZID=Europe/Warsaw:20171202T100000
DTEND;TZID=Europe/Warsaw:20171202T130000
UID:2A426D04-E943-4B06-B557-771AFBF2A9BA
SUMMARY:Odwołane- Zebranie Zarządu
DTSTAMP:20170706T095352Z
DESCRIPTION:
X-ALT-DESC;FMTTYPE=text/html:
LOCATION:
GEO:51.25948563;16.15596131
LAST-MODIFIED:20171130T200525Z
X-ACCESS:1
X-HITS:49
X-URL:
X-COLOR:FF0505
END:VEVENT
BEGIN:VEVENT
DTSTART;TZID=Europe/Warsaw:20171209T100000
DTEND;TZID=Europe/Warsaw:20171209T120000
UID:B0812960-9EEE-4E4F-97FE-6429FB1B9A67
SUMMARY:Zebranie Zarządu
DTSTAMP:20171207T134833Z
DESCRIPTION:
X-ALT-DESC;FMTTYPE=text/html:
LOCATION:
GEO:51.25948563;16.15596131
X-ACCESS:1
X-HITS:19
X-URL:
X-COLOR:3366CC
END:VEVENT
BEGIN:VEVENT
DTSTART;TZID=Europe/Warsaw:20180106T100000
DTEND;TZID=Europe/Warsaw:20180106T130000
UID:EAA46BF4-43CA-48A0-BDD4-2DE7382C28A6
SUMMARY:Odwołane- Zebranie Zarządu
DTSTAMP:20171130T200619Z
DESCRIPTION:
X-ALT-DESC;FMTTYPE=text/html:
LOCATION:
GEO:51.25948563;16.15596131
LAST-MODIFIED:20171211T062129Z
X-ACCESS:1
X-HITS:12
X-URL:
X-COLOR:FF0505
END:VEVENT
BEGIN:VEVENT
DTSTART;TZID=Europe/Warsaw:20180113T100000
DTEND;TZID=Europe/Warsaw:20180113T120000
UID:F15D4021-1B78-4F99-99A6-1A14609EEC27
SUMMARY:Zebranie Zarządu
DTSTAMP:20171211T062157Z
DESCRIPTION:
X-ALT-DESC;FMTTYPE=text/html:
LOCATION:
GEO:51.25948563;16.15596131
X-ACCESS:1
X-HITS:21
X-URL:
X-COLOR:3366CC
END:VEVENT
BEGIN:VEVENT
DTSTART;TZID=Europe/Warsaw:20180203T100000
DTEND;TZID=Europe/Warsaw:20180203T130000
UID:BD20737C-DDA6-4078-B36A-9E96BC15A3D7
SUMMARY:Odwołane- Zebranie Zarządu
DTSTAMP:20171130T200737Z
DESCRIPTION:
X-ALT-DESC;FMTTYPE=text/html:
LOCATION:
GEO:51.25948563;16.15596131
LAST-MODIFIED:20180116T113702Z
X-ACCESS:1
X-HITS:24
X-URL:
X-COLOR:FF0505
END:VEVENT
BEGIN:VEVENT
DTSTART;TZID=Europe/Warsaw:20180210T100000
DTEND;TZID=Europe/Warsaw:20180210T130000
UID:2480EC96-B3DA-408A-A1C9-B2D41D5EF383
SUMMARY:Zebranie Zarządu
DTSTAMP:20180116T113758Z
DESCRIPTION:
X-ALT-DESC;FMTTYPE=text/html:
LOCATION:
GEO:51.25948563;16.15596131
X-ACCESS:1
X-HITS:35
X-URL:
X-COLOR:3366CC
END:VEVENT
BEGIN:VEVENT
DTSTART;TZID=Europe/Warsaw:20180303T100000
DTEND;TZID=Europe/Warsaw:20180303T130000
UID:C213EA23-E47F-4DBC-95C7-291E983DFAC7
SUMMARY:Zebranie Zarządu
DTSTAMP:20171130T200822Z
DESCRIPTION:
X-ALT-DESC;FMTTYPE=text/html:
LOCATION:
GEO:51.25948563;16.15596131
X-ACCESS:1
X-HITS:27
X-URL:
X-COLOR:3366CC
END:VEVENT
BEGIN:VEVENT
DTSTART;TZID=Europe/Warsaw:20180310T110000
DTEND;TZID=Europe/Warsaw:20180310T140000
UID:D97E0C7A-7D05-45D1-901B-AF9875DFA343
SUMMARY:Walne Zebranie Sprawozdawcze
DTSTAMP:20180116T113926Z
DESCRIPTION:
X-ALT-DESC;FMTTYPE=text/html:
LOCATION:
GEO:51.19085553;16.15709052
LAST-MODIFIED:20180116T114140Z
X-ACCESS:1
X-HITS:66
X-URL:
X-COLOR:FF5500
END:VEVENT
BEGIN:VEVENT
DTSTART;TZID=Europe/Warsaw:20180407T100000
DTEND;TZID=Europe/Warsaw:20180407T130000
UID:24F456B7-B661-4788-9356-ABEF249FDADE
SUMMARY:Zebranie Zarządu
DTSTAMP:20171130T200918Z
DESCRIPTION:
X-ALT-DESC;FMTTYPE=text/html:
LOCATION:
GEO:51.25948563;16.15596131
X-ACCESS:1
X-HITS:94
X-URL:
X-COLOR:3366CC
END:VEVENT
BEGIN:VEVENT
DTSTART;TZID=Europe/Warsaw:20180414T100000
DTEND;TZID=Europe/Warsaw:20180414T130000
UID:FE06C8C3-83B7-4C33-9B68-E84BFCBEB532
SUMMARY:Zebranie Zarządu
DTSTAMP:20180413T192751Z
DESCRIPTION:
X-ALT-DESC;FMTTYPE=text/html:
LOCATION:
GEO:51.25948563;16.15596131
X-ACCESS:1
X-HITS:3
X-URL:
X-COLOR:3366CC
END:VEVENT
BEGIN:VEVENT
DTSTART;TZID=Europe/Warsaw:20180505T100000
DTEND;TZID=Europe/Warsaw:20180505T130000
UID:95EC7E93-019F-492B-BFC4-BA2E99953EAD
SUMMARY:Odwołane- Zebranie Zarządu
DTSTAMP:20171130T200952Z
DESCRIPTION:
X-ALT-DESC;FMTTYPE=text/html:
LOCATION:
GEO:51.25948563;16.15596131
LAST-MODIFIED:20180423T054010Z
X-ACCESS:1
X-HITS:87
X-URL:
X-COLOR:FF0505
END:VEVENT
BEGIN:VEVENT
DTSTART;TZID=Europe/Warsaw:20180602T100000
DTEND;TZID=Europe/Warsaw:20180602T130000
UID:716445CB-C6F8-4C9B-9718-EE42E8987304
SUMMARY:Odwołane- Zebranie Zarządu
DTSTAMP:20171130T201051Z
DESCRIPTION:
X-ALT-DESC;FMTTYPE=text/html:
LOCATION:
GEO:51.25948563;16.15596131
LAST-MODIFIED:20180601T203330Z
X-ACCESS:1
X-HITS:117
X-URL:
X-COLOR:FF0505
END:VEVENT
BEGIN:VEVENT
DTSTART;TZID=Europe/Warsaw:20180707T090000
DTEND;TZID=Europe/Warsaw:20180707T120000
UID:D0260D86-2A70-4C1A-939A-5D6F4327F556
SUMMARY:Zebranie Zarządu
DTSTAMP:20180612T103433Z
DESCRIPTION:
X-ALT-DESC;FMTTYPE=text/html:
LAST-MODIFIED:20180706T190709Z
X-ACCESS:1
X-HITS:24
X-URL:
X-COLOR:3366CC
END:VEVENT
BEGIN:VEVENT
DTSTART;TZID=Europe/Warsaw:20180804T080000
DTEND;TZID=Europe/Warsaw:20180804T110000
UID:D39177F0-615B-4F4F-A145-F3F074D0CD22
SUMMARY:Zebranie Zarządu
DTSTAMP:20180726T063510Z
DESCRIPTION:
X-ALT-DESC;FMTTYPE=text/html:
LOCATION:
GEO:51.25948563;16.15596131
LAST-MODIFIED:20180802T053032Z
X-ACCESS:1
X-HITS:22
X-URL:
X-COLOR:3366CC
END:VEVENT
BEGIN:VEVENT
DTSTART;TZID=Europe/Warsaw:20190222T100000
DTEND;TZID=Europe/Warsaw:20190222T150000
UID:B2E7F5F2-9418-4439-B71F-A2AFC24DF0B4
SUMMARY:Wgląd do dokumentacji sprawozdawczej
DTSTAMP:20180726T063510Z
DESCRIPTION:
X-ALT-DESC;FMTTYPE=text/html:
LOCATION:
GEO:51.25948563;16.15596131
LAST-MODIFIED:20190220T141110Z
X-ACCESS:1
X-HITS:5
X-URL:
X-COLOR:3366CC
END:VEVENT
BEGIN:VEVENT
DTSTART;TZID=Europe/Warsaw:20190223T100000
DTEND;TZID=Europe/Warsaw:20190223T150000
UID:E83C3D10-A5C3-4FA3-8626-CBBF32D80663
SUMMARY:Zebranie Zarządu, wgląd do dokumentacji sprawozdawczej
DTSTAMP:20180726T063510Z
DESCRIPTION:
X-ALT-DESC;FMTTYPE=text/html:
LOCATION:
GEO:51.25948563;16.15596131
LAST-MODIFIED:20190220T141022Z
X-ACCESS:1
X-HITS:6
X-URL:
X-COLOR:3366CC
END:VEVENT
BEGIN:VEVENT
DTSTART;TZID=Europe/Warsaw:20190302T100000
DTEND;TZID=Europe/Warsaw:20190302T130000
UID:187DC83F-560A-4C2E-83F1-293686162C8E
SUMMARY:Walne Zebranie Sprawozdawczo- Wyborcze
DTSTAMP:20180116T113926Z
DESCRIPTION:
X-ALT-DESC;FMTTYPE=text/html:
LOCATION:
GEO:51.19085553;16.15709052
LAST-MODIFIED:20190220T140906Z
X-ACCESS:1
X-HITS:39
X-URL:
X-COLOR:FF5500
END:VEVENT
BEGIN:VEVENT
DTSTART;TZID=Europe/Warsaw:20190427T080000
DTEND;TZID=Europe/Warsaw:20190427T110000
UID:E5D516C1-0B23-4BE8-9FD7-B7598654FF96
SUMMARY:Zebranie Zarządu
DTSTAMP:20190424T124801Z
DESCRIPTION:
X-ALT-DESC;FMTTYPE=text/html:
LOCATION:
GEO:51.25948563;16.15596131
LAST-MODIFIED:20190424T124857Z
X-ACCESS:1
X-HITS:15
X-URL:
X-COLOR:3366CC
END:VEVENT
BEGIN:VEVENT
DTSTART;TZID=Europe/Warsaw:20190608T080000
DTEND;TZID=Europe/Warsaw:20190608T103000
UID:57E9CC88-6A61-4C3A-834E-135579574826
SUMMARY:Zebranie Zarządu
DTSTAMP:20190604T113657Z
DESCRIPTION:
X-ALT-DESC;FMTTYPE=text/html:
LOCATION:
GEO:51.25948563;16.15596131
X-ACCESS:1
X-HITS:11
X-URL:
X-COLOR:3366CC
END:VEVENT
BEGIN:VEVENT
DTSTART;TZID=Europe/Warsaw:20190803T080000
DTEND;TZID=Europe/Warsaw:20190803T093000
UID:FA594E2D-729C-415F-954A-2E6B8152CDAE
SUMMARY:Zebranie Zarządu
DTSTAMP:20190802T063116Z
DESCRIPTION:
X-ALT-DESC;FMTTYPE=text/html:
LOCATION:
GEO:51.25948563;16.15596131
X-ACCESS:1
X-HITS:4
X-URL:
X-COLOR:3366CC
END:VEVENT
BEGIN:VEVENT
DTSTART;TZID=Europe/Warsaw:20200516T090000
DTEND;TZID=Europe/Warsaw:20200516T110000
UID:932FDDBB-B788-4409-A403-6A2C7730CE69
SUMMARY:Zebranie Zarządu
DTSTAMP:20200513T061318Z
DESCRIPTION:
X-ALT-DESC;FMTTYPE=text/html:
LOCATION:
GEO:51.25948563;16.15596131
LAST-MODIFIED:20200513T061336Z
X-ACCESS:1
X-HITS:22
X-URL:
X-COLOR:3366CC
END:VEVENT
BEGIN:VEVENT
DTSTART;TZID=Europe/Warsaw:20210424T090000
DTEND;TZID=Europe/Warsaw:20210424T110000
UID:1CBD9A2C-2007-4A2C-9CB4-549D3A5E7F46
SUMMARY:Zebranie Zarządu
DTSTAMP:20210422T111209Z
DESCRIPTION:
X-ALT-DESC;FMTTYPE=text/html:
LOCATION:
GEO:51.25948563;16.15596131
X-ACCESS:1
X-HITS:7
X-URL:
X-COLOR:3366CC
END:VEVENT
BEGIN:VEVENT
DTSTART;TZID=Europe/Warsaw:20210821T100000
DTEND;TZID=Europe/Warsaw:20210821T130000
UID:116B4AE1-DF24-4635-962B-A6E8657B1E4F
SUMMARY:Walne zebranie 2021
DTSTAMP:20210810T100248Z
DESCRIPTION:
X-ALT-DESC;FMTTYPE=text/html:
X-ACCESS:1
X-HITS:10
X-URL:/ogloszenia/dla-dzialkowcow/72-walne-zebranie-2021
X-COLOR:FFB70F
END:VEVENT
BEGIN:VEVENT
DTSTART;TZID=Europe/Warsaw:20220507T100000
DTEND;TZID=Europe/Warsaw:20220507T130000
UID:4CE8C889-C113-4C19-9ECA-91C7FE2B4A21
SUMMARY:Walne zebranie
DTSTAMP:20220428T064442Z
DESCRIPTION:
X-ALT-DESC;FMTTYPE=text/html:
LOCATION:
GEO:51.25948563;16.15596131
X-ACCESS:1
X-HITS:8
X-URL:
X-COLOR:FF0000
END:VEVENT
BEGIN:VEVENT
DTSTART;TZID=Europe/Warsaw:20230401T100000
DTEND;TZID=Europe/Warsaw:20230401T120000
UID:6DD212EA-32C7-4DF3-BBB3-C4DD44F1C5DA
SUMMARY:Przeglądanie materiałów sprawozdawczych za rok 2022
DTSTAMP:20230328T053609Z
DESCRIPTION:
X-ALT-DESC;FMTTYPE=text/html:
LOCATION:
GEO:51.25948563;16.15596131
LAST-MODIFIED:20230328T053638Z
X-ACCESS:1
X-HITS:9
X-URL:
X-COLOR:0011FF
END:VEVENT
BEGIN:VEVENT
DTSTART;TZID=Europe/Warsaw:20230408T100000
DTEND;TZID=Europe/Warsaw:20230408T120000
UID:B0CC11E0-23BD-4D76-B848-F27BF31642D5
SUMMARY:Przeglądanie materiałów sprawozdawczych za rok 2022
DTSTAMP:20230328T053609Z
DESCRIPTION:
X-ALT-DESC;FMTTYPE=text/html:
LOCATION:
GEO:51.25948563;16.15596131
LAST-MODIFIED:20230328T053711Z
X-ACCESS:1
X-HITS:1
X-URL:
X-COLOR:0011FF
END:VEVENT
BEGIN:VEVENT
DTSTART;TZID=Europe/Warsaw:20230422T100000
DTEND;TZID=Europe/Warsaw:20230422T130000
UID:78AC460E-5F11-4E58-8C18-039EFE2DE4C7
SUMMARY:Walne zebranie 2023
DTSTAMP:20220428T064442Z
DESCRIPTION:
X-ALT-DESC;FMTTYPE=text/html:
LOCATION:
GEO:51.25948563;16.15596131
LAST-MODIFIED:20230328T053448Z
X-ACCESS:1
X-HITS:14
X-URL:
X-COLOR:FF0000
END:VEVENT
BEGIN:VEVENT
DTSTART;TZID=Europe/Warsaw:20240608T090000
DTEND;TZID=Europe/Warsaw:20240608T110000
UID:370C0601-03C0-4719-8FEF-A72572CF1A28
SUMMARY:Zebranie Zarządu
DTSTAMP:20210422T111209Z
DESCRIPTION:
X-ALT-DESC;FMTTYPE=text/html:
LOCATION:
GEO:51.25948563;16.15596131
LAST-MODIFIED:20240529T132632Z
X-ACCESS:1
X-HITS:26
X-URL:
X-COLOR:3366CC
END:VEVENT
BEGIN:VEVENT
DTSTART;TZID=Europe/Warsaw:20240720T083000
DTEND;TZID=Europe/Warsaw:20240720T103000
UID:531AA9F4-8504-4A76-96C0-DD1FC02DF67E
SUMMARY:Zebranie Zarządu
DTSTAMP:20210422T111209Z
DESCRIPTION:
X-ALT-DESC;FMTTYPE=text/html:
LOCATION:
GEO:51.25948563;16.15596131
LAST-MODIFIED:20240718T122718Z
X-ACCESS:1
X-HITS:1
X-URL:
X-COLOR:3366CC
END:VEVENT
BEGIN:VEVENT
DTSTART;TZID=Europe/Warsaw:20241214T090000
DTEND;TZID=Europe/Warsaw:20241214T110000
UID:00C3DA06-FFBD-4DBB-96D7-93B651E834F2
SUMMARY:Zebranie Zarządu
DTSTAMP:20241213T051209Z
DESCRIPTION:
X-ALT-DESC;FMTTYPE=text/html:
LOCATION:
GEO:51.25948563;16.15596131
LAST-MODIFIED:20241213T061754Z
X-ACCESS:1
X-HITS:0
X-URL:
X-COLOR:3366CC
END:VEVENT
BEGIN:VEVENT
DTSTART;TZID=Europe/Warsaw:20250412T100000
DTEND;TZID=Europe/Warsaw:20250412T130000
UID:78F8277D-CCFB-45CC-994E-56A2C06E5FD6
SUMMARY:Walne zebranie 2025
DTSTAMP:20240426T064442Z
DESCRIPTION:
X-ALT-DESC;FMTTYPE=text/html:
LAST-MODIFIED:20250408T051817Z
X-ACCESS:1
X-HITS:9
X-URL:
X-COLOR:FF0000
END:VEVENT
END:VCALENDAR